BEGIN:VCALENDAR
VERSION:2.0
PRODID:-//wp-events-plugin.com//7.2.3.1//EN
TZID:Europe/Helsinki
X-WR-TIMEZONE:Europe/Helsinki
BEGIN:VEVENT
UID:1@murena.fi
DTSTART;TZID=Europe/Helsinki:20240322T180000
DTEND;TZID=Europe/Helsinki:20240322T200000
DTSTAMP:20240312T061813Z
URL:https://www.murena.fi/events/kurssi/
SUMMARY:SUKELLUSKURSSI P1 one star
DESCRIPTION:Laitesukelluksen peruskurssilla opetellaan ne tiedot ja taidot\
 , jotka laitesukeltaja tarvitsee sukeltaakseen ohjatusti esimerkiksi sukel
 lusseuran leireillä ja sukelluskeskusten järjestämillä retkillä.\n\nK
 urssin pääpaino on käytännön perustaitojen opettelussa ja sukellustur
 vallisuudessa.\nKurssi antaa valmiudet tehdä suoranoususukelluksia enint
 ään 15-20 metrin syvyydessä edellyttäen\, että sukellusolosuhteet ova
 t vastaavat tai paremmat kuin missä kurssi on järjestetty\n\nPääsyvaat
 imukset:\nKurssin alaikäraja on 15 vuotta.\n\nOsallistujan on täytettäv
 ä terveysselvityslomake sukelluskelpoisuuden toteamiseksi.
LOCATION:https://www.murena.fi/sukelluskurssi-p1-one-star-alkaa-22-3/
END:VEVENT
BEGIN:VEVENT
UID:4@murena.fi
DTSTART;TZID=Europe/Helsinki:20240504T120000
DTEND;TZID=Europe/Helsinki:20240504T130000
DTSTAMP:20240413T081502Z
URL:https://www.murena.fi/events/polkaistaan-kausi-kayntiin-meriturvassa-4
 -5/
SUMMARY:Polkaistaan kausi käyntiin Meriturvassa 4.5
DESCRIPTION:Nyt on oiva tilaisuus päästä kokeilemaan varusteitaan ja hie
 man virkistää muistiaan. Meriturvan koulutusallas on 43 m x 27 m ja syvy
 yttä 3\,8 m. Veden lämpötila on 21CÂ°.Â Â Ilmoittautuminen Murena
  aktiivit WhatsApp ryhmässä.\n\nPaikkatiedot:\n\nMeriturva\nRajapartioka
 ari 6\n08100 Lohja
LOCATION:http://www.meriturva.fi/fi/tietoa-meriturvasta/pelastautumiskoulut
 usyksikko-koulutushalli
END:VEVENT
BEGIN:VEVENT
UID:3@murena.fi
DTSTART;TZID=Europe/Helsinki:20240608T090000
DTEND;TZID=Europe/Helsinki:20240608T140000
DTSTAMP:20240511T060309Z
URL:https://www.murena.fi/events/murena-mukana-porvoon-paivilla-8-6/
SUMMARY:Murena mukana Porvoon Päivillä 8.6
DESCRIPTION:Lauantaina 8.6. Murena on parkissa jokirannassa\, Paahtimon edu
 stalla. Tule viihtymään ja jakamaan sukellustietoutta alueella liikkuvil
 le. Kaikki ovat lämpimästi tervetulleita!
END:VEVENT
BEGIN:VEVENT
UID:6@murena.fi
DTSTART;TZID=Europe/Helsinki:20240608T173000
DTEND;TZID=Europe/Helsinki:20240608T210000
DTSTAMP:20240524T112212Z
URL:https://www.murena.fi/events/kesajuhlat-ronnskarissa/
SUMMARY:Kesäjuhlat Rönnskärissä
DESCRIPTION:
END:VEVENT
BEGIN:VEVENT
UID:7@murena.fi
DTSTART;TZID=Europe/Helsinki:20241115T180000
DTEND;TZID=Europe/Helsinki:20241115T200000
DTSTAMP:20241111T190749Z
URL:https://www.murena.fi/events/syyskokous/
SUMMARY:Syyskokous
DESCRIPTION:Sääntömääräinen syyskokous\n15.11.2024 klo 18:00\nPaikka:
  Hattulan Löyly\, Vanha Hämeenlinnantie 21\, Porvoo\n\nKokouksessa käsi
 tellään sääntömääräiset asiat\, eli mm. kauden 2025 toimintasuunni
 telma ja -budjetti.\n\nValitaan kaudelle 2025 puheenjohtaja\, hallitukseen
  erovuoroisten tilalle uudet jäsenet ja vastuutehtäviin vetäjät.\n\nTu
 le mukaan päättämään Murenan tulevaisuudesta.
END:VEVENT
BEGIN:VEVENT
UID:12@murena.fi
DTSTART;TZID=Europe/Helsinki:20260306T180000
DTEND;TZID=Europe/Helsinki:20260306T190000
DTSTAMP:20260221T061927Z
URL:https://www.murena.fi/events/kevatkokous/
SUMMARY:Kevätkokous
DESCRIPTION:Hyvä seuran jäsen\, tervetuloa kevätkokoukseen.\nPäivämä
 ärä: 06.03.2026\nKellonaika: 18:00\nPaikka: Hattulan löylyt\, Vanha Hä
 meenlinnantie 21\n\nKevätkokouksessa käsiteltävät asiat:\n2025 toimint
 akauden toimintakertomus ja tilinpäätös\nsekä toiminnantarkastajien la
 usunto\nPäätetään tilinpäätöksen vahvistamisesta ja\nvastuuvapauden
  myöntämisestä\nMuut mahdolliset esille tulevat asiat
END:VEVENT
BEGIN:VEVENT
UID:11@murena.fi
DTSTART;TZID=Europe/Helsinki:20260308T110000
DTEND;TZID=Europe/Helsinki:20260308T140000
DTSTAMP:20260221T061623Z
URL:https://www.murena.fi/events/laitesukelluskokeilu-1100-1200-1300/
SUMMARY:Laitesukelluskokeilu 11:00\, 12:00\, 13:00
DESCRIPTION:\nLaitesukelluskokeilu Porvoossa - 8.3.2026\nUrheilusukellusker
 ho Murena ry kutsuu kokeilemaan laitesukellusta Porvoon uimahallissa!\n\n\
 nSisältö:\n• Lyhyt teoriaosuus sukelluksen perusteista\n• Ohjattu al
 las sukellus kokeneiden ohjaajien kanssa\n\n\nRyhmät: 11:00 | 12:00 | 13:
 00\nHinta: 25 € (sis. varusteet &amp\; pääsymaksun)\nOma maski/räpyl
 ät voit tuoda mukaan.\n\n\nIlmoittautuminen: murenaporvoo@gmail.com\n
END:VEVENT
BEGIN:VEVENT
UID:10@murena.fi
DTSTART;TZID=Europe/Helsinki:20260327T180000
DTEND;TZID=Europe/Helsinki:20260327T200000
DTSTAMP:20260221T062148Z
URL:https://www.murena.fi/events/laitesukelluksen-peruskurssi/
SUMMARY:Laitesukelluksen peruskurssi
DESCRIPTION:Kurssin aloitus 27.3.2026\n\nKurssin ohjelma: Kurssin ohjelma -
  Sukeltajaliitto ry
END:VEVENT
BEGIN:VEVENT
UID:13@murena.fi
DTSTART;TZID=Europe/Helsinki:20260503T110000
DTEND;TZID=Europe/Helsinki:20260503T140000
DTSTAMP:20260418T044127Z
URL:https://www.murena.fi/events/vapaasukelluksen-intro/
SUMMARY:Vapaasukelluksen Intro
DESCRIPTION:Järjestämme Vapaasukellus Intron\, jossa pääset turvallises
 ti tutustumaan lajiin ja harjoittelemaan perusteita ohjaajan johdolla. Et 
 tarvitse aiempaa kokemusta – mukaan voit tulla täysin uutena harrastaja
 na.\n\nPorvoon uimahalli\n03.05.2026\nklo 11:00\n\nKurssilla tutustutaan h
 engitystekniikkaan\, turvallisiin toimintatapoihin ja liikkumiseen vedess
 ä ilman laitteita.\n\nHinta 50 € / osallistuja\nIlmoittautuminen: muren
 aporvoo@gmail.com\nPaikkoja on rajallinen määrä\, joten ilmoittaudu pia
 n ja tule mukaan kokeilemaan uutta harrastusta!
END:VEVENT
BEGIN:VTIMEZONE
TZID:Europe/Helsinki
X-LIC-LOCATION:Europe/Helsinki
BEGIN:STANDARD
DTSTART:20231029T030000
TZOFFSETFROM:+0300
TZOFFSETTO:+0200
TZNAME:EET
END:STANDARD
BEGIN:DAYLIGHT
DTSTART:20240331T040000
TZOFFSETFROM:+0200
TZOFFSETTO:+0300
TZNAME:EEST
END:DAYLIGHT
BEGIN:STANDARD
DTSTART:20241027T030000
TZOFFSETFROM:+0300
TZOFFSETTO:+0200
TZNAME:EET
END:STANDARD
BEGIN:DAYLIGHT
DTSTART:20250330T040000
TZOFFSETFROM:+0200
TZOFFSETTO:+0300
TZNAME:EEST
END:DAYLIGHT
BEGIN:STANDARD
DTSTART:20251026T030000
TZOFFSETFROM:+0300
TZOFFSETTO:+0200
TZNAME:EET
END:STANDARD
BEGIN:DAYLIGHT
DTSTART:20260329T040000
TZOFFSETFROM:+0200
TZOFFSETTO:+0300
TZNAME:EEST
END:DAYLIGHT
END:VTIMEZONE
END:VCALENDAR